BEGIN:VCALENDAR
VERSION:2.0
PRODID:-//Library Market//iCal Export//EN
BEGIN:VEVENT
SUMMARY:Harmony in the Round: The Koa String Quartet &amp; the Floreo Stri
 ng Quartet
UID:25997
DTSTAMP:20260425T025200Z
DTSTART:20260616T233000Z
DTEND:20260617T010000Z
LOCATION:Harmony Library, 4616 S Shields St., Fort Collins, CO 80526, Unit
 ed States
ROOM: Round
DESCRIPTION:Off the Hook Arts happily presents the Koa and Floreo String Q
 uartets. As part of the quartet residency program studying with the Dali S
 tring Quartet during the week of Music Spoke, these two highly gifted quar
 tets perform excerpts from a vibrant selection of iconic string quartet re
 pertoire. Please join us for an immersive experience, exploring the ins an
 d outs of chamber music, discovering the intricacies behind ‘how it all 
 comes together’, and enjoying their youthful exuberance for sharing musi
 c.Koa String Quartet: Graduate String Quartet-in-Residence at the Universi
 ty of Colorado Boulder, featuring Kisa Uradomo (First Violin), Leah Pernic
 k (Second Violin), Devin Cowan (Viola), and Heewon Lee (Cello).The Floreo 
 String Quartet: Oberlin College and Conservatory Students, featuring Lucy 
 Hamilton (First Violin), Isabella Duque Moreno (Second Violin), Donald Smi
 th (Viola), and Eliza Cockrell (Cello).RSVP at Harmony in the Round With T
 he Koa String Quartet and the Floreo String Quartet
URL:https://poudrelibraries.librarycalendar.com/event/harmony-round-25997
END:VEVENT
END:VCALENDAR
