BEGIN:VCALENDAR
VERSION:2.0
PRODID:-//Library Market//iCal Export//EN
BEGIN:VEVENT
SUMMARY:Virtual Reality Showcase for Beginners
UID:31745
DTSTAMP:20260420T145600Z
DTSTART:20260730T000000Z
DTEND:20260730T013000Z
LOCATION:Old Town Library, 201 Peterson St, Fort Collins, CO 80524, United
  States
ROOM: Large Meeting Room Combo
DESCRIPTION:Curious about VR and how it works? Explore new immersive world
 s using the library&#039;s VR sets. Choose a favorite virtual experience: 
 create custom artwork, experience a supernova, dance with a robot, swim wi
 th sharks, or relax and immerse yourself in a nature landscape. Library st
 aff and volunteers will be here to guide you through your first VR steps. 
 Snacks and refreshments provided. Registration recommended; walk-ins welco
 me if space allows. For ages 10+.
URL:https://poudrelibraries.librarycalendar.com/event/virtual-reality-show
 case-beginners-31745
END:VEVENT
END:VCALENDAR
