BEGIN:VCALENDAR
VERSION:2.0
PRODID:-//Library Market//iCal Export//EN
BEGIN:VEVENT
SUMMARY:Library Instruction: NUR 1009
UID:32491
DTSTAMP:20260421T070300Z
DTSTART:20260824T203000Z
DTEND:20260824T220000Z
LOCATION:Harmony Library, 4616 S Shields St., Fort Collins, CO 80526, Unit
 ed States
ROOM: Community Room
DESCRIPTION:
URL:https://poudrelibraries.librarycalendar.com/event/library-instruction-
 nur-1009-32491
END:VEVENT
END:VCALENDAR
