BEGIN:VCALENDAR
VERSION:2.0
PRODID:-//Library Market//iCal Export//EN
BEGIN:VEVENT
SUMMARY:Evie @Olander Elementary Olapalooza
UID:32549
DTSTAMP:20260420T145600Z
DTSTART:20260514T230000Z
DTEND:20260515T010000Z
LOCATION:Olander Elementary, 3401 Auntie Stone St, Fort Collins, CO 80526,
  United States
ROOM: Evie @Olander Elementary Olapalooza
DESCRIPTION:
URL:https://poudrelibraries.librarycalendar.com/event/evie-olander-element
 ary-olapalooza-32549
END:VEVENT
END:VCALENDAR
