BEGIN:VCALENDAR
VERSION:2.0
PRODID:-//Library Market//iCal Export//EN
BEGIN:VEVENT
SUMMARY:Evie @Brinks Reference Library, Laporte
UID:32554
DTSTAMP:20260420T145600Z
DTSTART:20260523T160000Z
DTEND:20260523T180000Z
LOCATION:Northern Colorado Artist Community, 3121 Kintzley Dr, Unit A, Lap
 orte, CO 80535, United States
ROOM: Evie @Brinks Reference Library, Laporte
DESCRIPTION:
URL:https://poudrelibraries.librarycalendar.com/event/evie-brinks-referenc
 e-library-laporte-32554
END:VEVENT
END:VCALENDAR
