BEGIN:VCALENDAR
VERSION:2.0
PRODID:-//Library Market//iCal Export//EN
BEGIN:VEVENT
SUMMARY:Evie @Neighbor to Neighbor
UID:32561
DTSTAMP:20260422T005400Z
DTSTART:20260601T220000Z
DTEND:20260601T230000Z
LOCATION:Neighbor to Neighbor, 1550 Blue Spruce Dr, Fort Collins, CO 80524
 , United States
ROOM: Evie @Neighbor to Neighbor
DESCRIPTION:
URL:https://poudrelibraries.librarycalendar.com/event/evie-neighbor-neighb
 or-32561
END:VEVENT
END:VCALENDAR
