BEGIN:VCALENDAR
VERSION:2.0
PRODID:-//Library Market//iCal Export//EN
BEGIN:VEVENT
SUMMARY:Evie @Poudre Park Community Center
UID:32563
DTSTAMP:20260423T120500Z
DTSTART:20260604T000000Z
DTEND:20260604T013000Z
LOCATION:Poudre Park Community Center, 10234 Poudre Canyon Rd, Bellvue, CO
  80512, United States
ROOM: Evie @Poudre Park Community Center
DESCRIPTION:
URL:https://poudrelibraries.librarycalendar.com/event/evie-poudre-park-com
 munity-center-32563
END:VEVENT
END:VCALENDAR
