BEGIN:VCALENDAR
VERSION:2.0
PRODID:-//Library Market//iCal Export//EN
BEGIN:VEVENT
SUMMARY:Evie @CARE Communities Summer Event
UID:32572
DTSTAMP:20260420T220100Z
DTSTART:20260711T220000Z
DTEND:20260712T000000Z
LOCATION:CARE Communities, 1827 Somerville Dr, Fort Collins, CO 80526, Uni
 ted States
ROOM: Evie @CARE Communities Summer Event
DESCRIPTION:
URL:https://poudrelibraries.librarycalendar.com/event/evie-care-communitie
 s-summer-event-32572
END:VEVENT
END:VCALENDAR
