BEGIN:VCALENDAR
VERSION:2.0
PRODID:-//Library Market//iCal Export//EN
BEGIN:VEVENT
SUMMARY:Evie @CARE Communities Summer Event
UID:32573
DTSTAMP:20260420T220100Z
DTSTART:20260801T220000Z
DTEND:20260802T000000Z
LOCATION:CARE Communities, 1303 W Swallow Rd, Fort Collins, CO 80525, Unit
 ed States
ROOM: Evie @CARE Communities Summer Event
DESCRIPTION:
URL:https://poudrelibraries.librarycalendar.com/event/evie-care-communitie
 s-summer-event-32573
END:VEVENT
END:VCALENDAR
