BEGIN:VCALENDAR
VERSION:2.0
PRODID:-//Library Market//iCal Export//EN
BEGIN:VEVENT
SUMMARY:Evie @Buffalo Run Apartments
UID:32592
DTSTAMP:20260419T155700Z
DTSTART:20260706T174500Z
DTEND:20260706T181500Z
LOCATION:Buffalo Run Apartments, 1245 E Lincoln Ave, Fort Collins, CO 8052
 4, United States
ROOM: Evie @Buffalo Run Apartments
DESCRIPTION:
URL:https://poudrelibraries.librarycalendar.com/event/evie-buffalo-run-apa
 rtments-32592
END:VEVENT
END:VCALENDAR
