BEGIN:VCALENDAR
VERSION:2.0
PRODID:-//Library Market//iCal Export//EN
BEGIN:VEVENT
SUMMARY:Evie @New Mercer Commons
UID:32770
DTSTAMP:20260423T120500Z
DTSTART:20260629T203000Z
DTEND:20260629T213000Z
LOCATION:New Mercer Commons, 900 Centre Ave, Fort Collins, CO 80526, Unite
 d States
ROOM: Evie @New Mercer Commons
DESCRIPTION:
URL:https://poudrelibraries.librarycalendar.com/event/evie-new-mercer-comm
 ons-32770
END:VEVENT
END:VCALENDAR
