BEGIN:VCALENDAR
VERSION:2.0
PRODID:-//Library Market//iCal Export//EN
BEGIN:VEVENT
SUMMARY:Evie @New Mercer Commons
UID:32771
DTSTAMP:20260422T043600Z
DTSTART:20260727T203000Z
DTEND:20260727T213000Z
LOCATION:New Mercer Commons, 900 Centre Ave, Fort Collins, CO 80526, Unite
 d States
ROOM: Evie @New Mercer Commons
DESCRIPTION:
URL:https://poudrelibraries.librarycalendar.com/event/evie-new-mercer-comm
 ons-32771
END:VEVENT
END:VCALENDAR
